BEGIN:VCALENDAR
VERSION:2.0
PRODID:-//un.dk - ECPv6.15.19//NONSGML v1.0//EN
CALSCALE:GREGORIAN
METHOD:PUBLISH
X-WR-CALNAME:un.dk
X-ORIGINAL-URL:https://un.dk
X-WR-CALDESC:Events for un.dk
REFRESH-INTERVAL;VALUE=DURATION:PT1H
X-Robots-Tag:noindex
X-PUBLISHED-TTL:PT1H
BEGIN:VTIMEZONE
TZID:Europe/Copenhagen
BEGIN:DAYLIGHT
TZOFFSETFROM:+0100
TZOFFSETTO:+0200
TZNAME:CEST
DTSTART:20220327T010000
END:DAYLIGHT
BEGIN:STANDARD
TZOFFSETFROM:+0200
TZOFFSETTO:+0100
TZNAME:CET
DTSTART:20221030T010000
END:STANDARD
BEGIN:DAYLIGHT
TZOFFSETFROM:+0100
TZOFFSETTO:+0200
TZNAME:CEST
DTSTART:20230326T010000
END:DAYLIGHT
BEGIN:STANDARD
TZOFFSETFROM:+0200
TZOFFSETTO:+0100
TZNAME:CET
DTSTART:20231029T010000
END:STANDARD
BEGIN:DAYLIGHT
TZOFFSETFROM:+0100
TZOFFSETTO:+0200
TZNAME:CEST
DTSTART:20240331T010000
END:DAYLIGHT
BEGIN:STANDARD
TZOFFSETFROM:+0200
TZOFFSETTO:+0100
TZNAME:CET
DTSTART:20241027T010000
END:STANDARD
END:VTIMEZONE
BEGIN:VEVENT
DTSTART;TZID=Europe/Copenhagen:20230206T180000
DTEND;TZID=Europe/Copenhagen:20230206T210000
DTSTAMP:20260422T235712
CREATED:20230126T122846Z
LAST-MODIFIED:20230206T083619Z
UID:20182-1675706400-1675717200@un.dk
SUMMARY:docUNight: A Girl from Mogadishu
DESCRIPTION:Join us on International Day of Zero Tolerance for Female Genital Mutilation (FGM)\, 6 February for a screening of the movie “A Girl from Mogadishu” and an introduction to global and regional initiatives to eliminate the practice of FGM. \nRegistration Closed\nFood and drinks will be available to buy in the UN City Café from 17.00-18.00. \n18.00: Welcome by moderator Flemming Johannesen\, Head of UN City Communications \n18.03: Panel introduction to the International Day of Zero Tolerance for Female Genital Mutilation \nPanellists*: \n– Pernille Fenger\, Director\, UNFPA Nordic Office \n– Ambassador of Sweden to Denmark\, H.E. Charlotte Wrangberg \n– Member of Parliament (Tbc) \n18.30: Screening of “A Girl from Mogadishu” \n20.30: Interview with Ifrah Ahmed \n21.00: End of Programme \n*Panellists will be available for questions and answers after the screening. \n\n\n\n\nBackground \nFemale genital mutilation (FGM) has existed as a practice for more than 2\,000 years and comprises all procedures that involve altering or injuring the female genitalia for non-medical reasons and is recognized internationally as a violation of the human rights\, the health and the integrity of girls and women. \nGirls who undergo female genital mutilation face short-term complications such as severe pain\, shock\, excessive bleeding\, infections\, and difficulty in passing urine\, as well as long-term consequences for their sexual and reproductive health and mental health. \nAlthough the practice has been around for more than a thousand years\, there are reasons to think that female genital mutilation could end in a single generation. That is why the United Nations strives for its full eradication by 2030\, following the spirit of Sustainable Development Goal 5. \nSince 2008\, UNFPA\, jointly with UNICEF\, leads the largest global programme to accelerate the elimination of female genital mutilation. The Joint Programme currently focuses on 17 countries in Africa and the Middle East and also supports regional and global initiatives. \nAbout the movie \nCircumcised at eight. Raped by wandering militiamen at twelve. Fully infibulated again at thirteen\, and then married off to a fifty-year-old man who regularly beat her; Ifrah Ahmed runs away to a place she had once known as home in war torn Mogadishu to find it had become the kind of battleground now known as ‘Black Hawk Down’. Ifrah makes the extraordinary journey out of war-torn Somalia and arrives not in Minnesota\, USA\, as she had been lead to believe\, but Dublin\, Ireland. \nFinally finding some sense of safety\, her fears begin to subside and her traumatic days\, she thinks\, are behind her\, until a routine medical smear test elicits such looks of horror on the faces of her Irish doctors that she suffers a profound sense of shame. They say that anger is the flip side of shame. Channelling the feelings on both sides of that coin\, she reacts incredibly quickly\, learns English at break-neck speed and unearths an enviable technical talent for harnessing social media. \nWithin months she is campaigning for better conditions for asylum – seekers arriving in Ireland. She quickly becomes a leading activist against gender-based violence and fights through her campaign work for the abandonment of FGM world-wide. As an Irish citizen\, she presents her testimony on behalf of Ireland’s MEPs on the occasion of the ratification of the UN Convention against FGM/C at the European Parliament and it is passed unanimously. \nThus commences her now lauded professional career as an international activist. \nRegistration Closed\n\nSubscribe to our newsletter for future events: Please enable JavaScript in your browser to complete this form.Email *MessageSubscribe
URL:https://un.dk/event/docunight-a-girl-from-mogadishu/
LOCATION:UN City\, Marmorvej 51\, Copenhagen\, 2100\, Denmark
CATEGORIES:docUNight
ATTACH;FMTTYPE=image/jpeg:https://un.dk/wp-content/uploads/2023/01/327054649_1179182089393188_5058407581926275966_n-scaled.jpeg
ORGANIZER;CN="UN City Copenhagen":MAILTO:communications@uncity.dk
END:VEVENT
END:VCALENDAR