BEGIN:VCALENDAR
VERSION:2.0
PRODID:-//un.dk - ECPv6.15.19//NONSGML v1.0//EN
CALSCALE:GREGORIAN
METHOD:PUBLISH
X-ORIGINAL-URL:https://un.dk
X-WR-CALDESC:Events for un.dk
REFRESH-INTERVAL;VALUE=DURATION:PT1H
X-Robots-Tag:noindex
X-PUBLISHED-TTL:PT1H
BEGIN:VTIMEZONE
TZID:Europe/Copenhagen
BEGIN:DAYLIGHT
TZOFFSETFROM:+0100
TZOFFSETTO:+0200
TZNAME:CEST
DTSTART:20220327T010000
END:DAYLIGHT
BEGIN:STANDARD
TZOFFSETFROM:+0200
TZOFFSETTO:+0100
TZNAME:CET
DTSTART:20221030T010000
END:STANDARD
BEGIN:DAYLIGHT
TZOFFSETFROM:+0100
TZOFFSETTO:+0200
TZNAME:CEST
DTSTART:20230326T010000
END:DAYLIGHT
BEGIN:STANDARD
TZOFFSETFROM:+0200
TZOFFSETTO:+0100
TZNAME:CET
DTSTART:20231029T010000
END:STANDARD
BEGIN:DAYLIGHT
TZOFFSETFROM:+0100
TZOFFSETTO:+0200
TZNAME:CEST
DTSTART:20240331T010000
END:DAYLIGHT
BEGIN:STANDARD
TZOFFSETFROM:+0200
TZOFFSETTO:+0100
TZNAME:CET
DTSTART:20241027T010000
END:STANDARD
END:VTIMEZONE
BEGIN:VEVENT
DTSTART;TZID=Europe/Copenhagen:20231025T120000
DTEND;TZID=Europe/Copenhagen:20231025T173000
DTSTAMP:20260425T194344
CREATED:20231016T134513Z
LAST-MODIFIED:20231016T134513Z
UID:24009-1698235200-1698255000@un.dk
SUMMARY:UN City Career Day
DESCRIPTION:Join us for Career Day in UN City to explore career opportunities in the United Nations & network with HR professionals from UN agencies. \n\n\n\nUN City Copenhagen invites you to come and learn about the UN job market\, recruitment processes\, career journeys\, competency-based interviews\, as well as to meet and speak with HR professionals from the resident UN agencies. Whether you are a university student exploring post-graduate opportunities or a seasoned professional looking for a new role in the UN system\, this career seminar is for you. \nJoin us for one of three 90-minute sessions – to chat with HR representatives\, as well as hear their advice on: \n\nHow to navigate the UN job market – learn about agency mandates\, field & HQ locations\, different entry points and job trends\nWhat a UN recruitment process typically looks like\nCareer journeys and real-life experiences\nHow to prepare and deliver a convincing competency-based interview\nThe main contract modalities across UN agencies\n\n––––––––––––––––––––––––––––––––––––––––––––––––––––––––––– \nPlease bring a valid photo-ID to get through security at UN City and set aside time for the security check prior to the event. \nPlease note that it is only possible to attend one session. \n––––––––––––––––––––––––––––––––––––––––––––––––––––––––––– \nREGISTER VIA EVENTBRITE \n––––––––––––––––––––––––––––––––––––––––––––––––––––––––––– \nProgramme: \nSession 1: \n12:00–12:45 Presentations \n12:45–13:30 Meet the UN agencies \n13:30 Closing of session 1 & departure \n––––––––– \nSession 2: \n14:00–14:45 Presentations \n14:45–15:30 Meet the UN agencies \n15:30 Closing of session 2 & departure \n––––––––– \nSession 3: \n16:00–16:45 Presentations \n16:45–17:30 Meet the UN agencies \n17:30 Closing of session 3 & departure
URL:https://un.dk/event/un-city-career-day/
LOCATION:UN City\, Marmorvej 51\, Copenhagen\, 2100\, Denmark
ATTACH;FMTTYPE=image/png:https://un.dk/wp-content/uploads/2023/10/Career-Day_Eventbrite-header.png
ORGANIZER;CN="UN City Copenhagen":MAILTO:communications@uncity.dk
END:VEVENT
END:VCALENDAR